BEGIN:VCALENDAR
VERSION:2.0
PRODID:-//wp-events-plugin.com//7.2.3.1//EN
TZID:America/Edmonton
X-WR-TIMEZONE:America/Edmonton
BEGIN:VEVENT
UID:2025@calgarycsl.org
DTSTART;TZID=America/Edmonton:20221107T183000
DTEND;TZID=America/Edmonton:20221107T200000
DTSTAMP:20220901T201002Z
URL:https://calgarycsl.org/events/zumba-9/
SUMMARY:Zumba
DESCRIPTION:PossABilities Group - Classroom space
CATEGORIES:External Private
END:VEVENT
BEGIN:VTIMEZONE
TZID:America/Edmonton
X-LIC-LOCATION:America/Edmonton
BEGIN:STANDARD
DTSTART:20221106T010000
TZOFFSETFROM:-0600
TZOFFSETTO:-0700
TZNAME:MST
END:STANDARD
END:VTIMEZONE
END:VCALENDAR