BEGIN:VCALENDAR
VERSION:2.0
PRODID:-//wp-events-plugin.com//7.2.3.1//EN
TZID:America/Edmonton
X-WR-TIMEZONE:America/Edmonton
BEGIN:VEVENT
UID:1668@calgarycsl.org
DTSTART;TZID=America/Edmonton:20211231T050000
DTEND;TZID=America/Edmonton:20211231T050000
DTSTAMP:20211221T154535Z
URL:https://calgarycsl.org/events/world-peace-meditation/
SUMMARY:World Peace Meditation
DESCRIPTION:Join tens of thousands around the world as we meditate on Peace
  within ourselves and throughout the world.\nThere will be music by Amy Bi
 shop and a 20 minute meditation with additional peace readings by Lance Ra
 th\, Fran Watson and Sabrina Mauro.\nWe invite you to send us a writing on
  peace to calgarycsl@gmail.com or to our FB account which we will then rea
 d at the event.\nThis event will be available online through FaceBook Live
  and in-person at our Centre. 4411 Manitoba Road SE.\nYes! The time is cor
 rect! 5:00 AM Mountain Time
ATTACH;FMTTYPE=image/jpeg:https://calgarycsl.org/wp-content/uploads/2021/1
 2/Jan-17-talk.jpg
CATEGORIES:Meditation
END:VEVENT
BEGIN:VTIMEZONE
TZID:America/Edmonton
X-LIC-LOCATION:America/Edmonton
BEGIN:STANDARD
DTSTART:20211107T010000
TZOFFSETFROM:-0600
TZOFFSETTO:-0700
TZNAME:MST
END:STANDARD
END:VTIMEZONE
END:VCALENDAR