BEGIN:VCALENDAR
VERSION:2.0
PRODID:-//wp-events-plugin.com//7.2.3.1//EN
TZID:America/Edmonton
X-WR-TIMEZONE:America/Edmonton
BEGIN:VEVENT
UID:2086@calgarycsl.org
DTSTART;TZID=America/Edmonton:20221231T050000
DTEND;TZID=America/Edmonton:20221231T054500
DTSTAMP:20221027T133622Z
URL:https://calgarycsl.org/events/world-peace-meditation-2/
SUMMARY:World Peace Meditation
DESCRIPTION:Join us in a Peace Meditation to ground ourselves and through t
 hat\, the world\, into Peace.\n\n5:00 AM start time\, in-person and online
 .
ATTACH;FMTTYPE=image/jpeg:https://calgarycsl.org/wp-content/uploads/2022/0
 3/Hope-Peace-Love-Faith.jpg
CATEGORIES:Meditation
END:VEVENT
BEGIN:VTIMEZONE
TZID:America/Edmonton
X-LIC-LOCATION:America/Edmonton
BEGIN:STANDARD
DTSTART:20221106T010000
TZOFFSETFROM:-0600
TZOFFSETTO:-0700
TZNAME:MST
END:STANDARD
END:VTIMEZONE
END:VCALENDAR