BEGIN:VCALENDAR
VERSION:2.0
PRODID:-//wp-events-plugin.com//7.2.3.1//EN
TZID:America/Edmonton
X-WR-TIMEZONE:America/Edmonton
BEGIN:VEVENT
UID:2960@calgarycsl.org
DTSTART;TZID=America/Edmonton:20240218T123000
DTEND;TZID=America/Edmonton:20240218T143000
DTSTAMP:20240129T190746Z
URL:https://calgarycsl.org/events/workshop-loving-yourself-from-within/
SUMMARY:Workshop "Loving Yourself From Within"
DESCRIPTION:Facilitated by: Spiritual Practitioner Sabrina Mauro\n\nIn-pers
 on on: Sunday\, February 18th 12:30-2:30 pm\n\nInvestment: $20\ne-transfer
  to: office@calgarycsl.org\n\nPlease bring: hand held mirror &amp\; notebo
 ok to journal
ATTACH;FMTTYPE=image/jpeg:https://calgarycsl.org/wp-content/uploads/2023/0
 8/Sabrina-Workshop.jpg
CATEGORIES:Workshop
END:VEVENT
BEGIN:VTIMEZONE
TZID:America/Edmonton
X-LIC-LOCATION:America/Edmonton
BEGIN:STANDARD
DTSTART:20231105T010000
TZOFFSETFROM:-0600
TZOFFSETTO:-0700
TZNAME:MST
END:STANDARD
END:VTIMEZONE
END:VCALENDAR