BEGIN:VCALENDAR
VERSION:2.0
PRODID:-//wp-events-plugin.com//7.2.3.1//EN
TZID:America/Edmonton
X-WR-TIMEZONE:America/Edmonton
BEGIN:VEVENT
UID:3748@calgarycsl.org
DTSTART;TZID=America/Edmonton:20240912T173000
DTEND;TZID=America/Edmonton:20240912T203000
DTSTAMP:20240618T200557Z
URL:https://calgarycsl.org/events/wheel-of-clarity-life-balance-wednesday-
 june-19-630-900pm/
SUMMARY:From Grievance to Gratitude - by Valda Harris
DESCRIPTION:
CATEGORIES:External Private
END:VEVENT
BEGIN:VTIMEZONE
TZID:America/Edmonton
X-LIC-LOCATION:America/Edmonton
BEGIN:DAYLIGHT
DTSTART:20240310T030000
TZOFFSETFROM:-0700
TZOFFSETTO:-0600
TZNAME:MDT
END:DAYLIGHT
END:VTIMEZONE
END:VCALENDAR