BEGIN:VCALENDAR
VERSION:2.0
PRODID:-//wp-events-plugin.com//7.2.3.1//EN
TZID:America/Edmonton
X-WR-TIMEZONE:America/Edmonton
BEGIN:VEVENT
UID:4871@calgarycsl.org
DTSTART;TZID=America/Edmonton:20250727T123000
DTEND;TZID=America/Edmonton:20250727T153000
DTSTAMP:20250702T193342Z
URL:https://calgarycsl.org/events/welcome-to-the-new-earth/
SUMMARY:July 27 Workshop - "Welcome to the New Earth!"
DESCRIPTION:Following up on Dayna Dunbar’s talk on Sunday\, July 27\, thi
 s joyful\, heart-centered workshop will offer a deep dive into the informa
 tion she received after her encounter in Sedona with a highly evolved bein
 g. The workshop will include teachings\, plus experiential exercises that 
 utilize sacred geometry\, pranayama\, and community tantra (the name she g
 ives non-sexual practices we can do together to support each other’s ene
 rgetic awakening).\n\nSunday\, July 27\, 12:30 – 3:30\nWorkshop fee: $25
 \n\nMORE ABOUT DAYNA DUNBAR
ATTACH;FMTTYPE=image/jpeg:https://calgarycsl.org/wp-content/uploads/2022/0
 9/301867509_1486522921813186_3366431538098524443_n-1.png
CATEGORIES:Workshop
END:VEVENT
BEGIN:VTIMEZONE
TZID:America/Edmonton
X-LIC-LOCATION:America/Edmonton
BEGIN:DAYLIGHT
DTSTART:20250309T030000
TZOFFSETFROM:-0700
TZOFFSETTO:-0600
TZNAME:MDT
END:DAYLIGHT
END:VTIMEZONE
END:VCALENDAR