BEGIN:VCALENDAR
VERSION:2.0
PRODID:-//wp-events-plugin.com//7.2.3.1//EN
TZID:America/Edmonton
X-WR-TIMEZONE:America/Edmonton
BEGIN:VEVENT
UID:2452@calgarycsl.org
DTSTART;TZID=America/Edmonton:20230418T183000
DTEND;TZID=America/Edmonton:20230418T210000
DTSTAMP:20230215T193555Z
URL:https://calgarycsl.org/events/visioning-course-2023-04-18/
SUMMARY:VISIONING COURSE
DESCRIPTION:Visioning: A Way of Life\nAn Accredited Centers for Spiritual L
 iving Course\nTuesdays\, March 28 - May 2\n6:30 - 9:00 p.m. MST\nCourse fe
 e: $195\n**NOTE - This course will be offered for both in-person and onlin
 e attendance.\n\n\n\n\n\nWhen practiced regularly\, Visioning can transfor
 m every aspect of our lives --  from clarity about our life purpose\, to 
 our interpersonal relationships\, to the organizations to which we belong\
 , to the societies in which we live. This six-module course (originally in
 troduced by Rev. Michael Beckwith) takes a deep dive into the visioning pr
 ocess\, questions\, and how to lead a vision-led life. \n\n\n\n\n\n\nSend
  your E-Transfer to office@calgarycsl.org\n\nor pay by debit/credit by\n\n
 [wpecpp id=15904]
ATTACH;FMTTYPE=image/jpeg:https://calgarycsl.org/wp-content/uploads/2023/0
 2/Visioning-Course.png
CATEGORIES:Course
LOCATION:Calgary Centre for Spiritual Living\, 4411 Manitoba Rd SE\, Calgar
 y\, AB\, T2Y 3Z6\, Canada
X-APPLE-STRUCTURED-LOCATION;VALUE=URI;X-ADDRESS=4411 Manitoba Rd SE\, Calga
 ry\, AB\, T2Y 3Z6\, Canada;X-APPLE-RADIUS=100;X-TITLE=Calgary Centre for S
 piritual Living:geo:0,0
END:VEVENT
BEGIN:VTIMEZONE
TZID:America/Edmonton
X-LIC-LOCATION:America/Edmonton
BEGIN:DAYLIGHT
DTSTART:20230312T030000
TZOFFSETFROM:-0700
TZOFFSETTO:-0600
TZNAME:MDT
END:DAYLIGHT
END:VTIMEZONE
END:VCALENDAR