BEGIN:VCALENDAR
VERSION:2.0
PRODID:-//wp-events-plugin.com//7.2.3.1//EN
TZID:America/Edmonton
X-WR-TIMEZONE:America/Edmonton
BEGIN:VEVENT
UID:1229@calgarycsl.org
DTSTART;TZID=America/Phoenix:20210505T190000
DTEND;TZID=America/Phoenix:20210505T201500
DTSTAMP:20210420T162929Z
URL:https://calgarycsl.org/events/treat-your-mind-spiritually-2021-05-05/
SUMMARY:Treat Your Mind\, Spiritually!
DESCRIPTION:Did you know that our Teaching has a powerful tool that YOU can
  use (anyone can) to enhance and shift your life experience?\n\nThere is n
 othing secret about it\, sign up to get to know what Spiritual Mind Treatm
 ent is AND put it to use!\n\nJoin Rev. Marjorie\, Sabrina Mauro\, Ron Hahn
  and Lance Rath as they lead the class and teach how to:\n\n 	Demystify an
 d become friends with this thing called Spiritual Mind Treatment\n 	Unlock
  the Power of Your Mind and the Universe to harness and direct positive ch
 ange\n 	Learn to do Spiritual Mind Treatment for yourself\n 	Have any and 
 all of your questions answered\n 	Get to better know some the Centre's Lic
 ensed Spiritual Practitioners\n 	There will also be opportunities for you 
 to request and receive Spiritual Mind Treatment.\n\nNo Obligation! Drop i
 n on the first night April 28 at 7pm to check it out and when you love it\
 , commit to the remaining 6 weeks for just $35. (Click here to pay via Pay
 Pal)\n\nTO RECEIVE YOUR ACCESS LINK SIMPLY EMAIL office@calgarycsl.org\n\
 n&nbsp\;
ATTACH;FMTTYPE=image/jpeg:https://calgarycsl.org/wp-content/uploads/2021/0
 4/apr-12.png
CATEGORIES:Course
END:VEVENT
BEGIN:VTIMEZONE
TZID:America/Phoenix
X-LIC-LOCATION:America/Phoenix
BEGIN:STANDARD
DTSTART:20200505T190000
TZOFFSETFROM:-0700
TZOFFSETTO:-0700
TZNAME:MST
END:STANDARD
END:VTIMEZONE
END:VCALENDAR