BEGIN:VCALENDAR
VERSION:2.0
PRODID:-//wp-events-plugin.com//7.2.3.1//EN
TZID:America/Edmonton
X-WR-TIMEZONE:America/Edmonton
BEGIN:VEVENT
UID:1893@calgarycsl.org
DTSTART;TZID=America/Edmonton:20220518T190000
DTEND;TZID=America/Edmonton:20220518T201500
DTSTAMP:20220318T173637Z
URL:https://calgarycsl.org/events/treat-your-mind-spiritually-2-2022-05-18
 /
SUMMARY:Treat Your Mind\, Spiritually!
DESCRIPTION:Treat Your Mind\, Spiritually!\nDid you know that our Teaching 
 has a powerful tool that YOU can use (anyone can) to enhance and shift you
 r life experience?  There is nothing secret about it\, sign up to get to k
 now what Spiritual Mind Treatment is AND put it to use!\n\nJoin Rev. Marjo
 rie and Lance Rath as they lead the class and teach how to:\n\nDemystify a
 nd become friends with this thing called Spiritual Mind Treatment\nUnlock 
 the Power of Your Mind and the Universe to harness and direct positive cha
 nge\nLearn to do Spiritual Mind Treatment for yourself\nHave any and all o
 f your questions answered\nGet to better know some the Centre's Licensed S
 piritual Practitioners\nThere will also be opportunities for you to reques
 t and receive Spiritual Mind Treatment.\nRegistrations open until April 5.
   Cost: $40\n\nThe group runs every Wednesday\, April 6 - May 18 from 7:00
 pm to 8:15pm
CATEGORIES:Course
END:VEVENT
BEGIN:VTIMEZONE
TZID:America/Edmonton
X-LIC-LOCATION:America/Edmonton
BEGIN:DAYLIGHT
DTSTART:20220313T030000
TZOFFSETFROM:-0700
TZOFFSETTO:-0600
TZNAME:MDT
END:DAYLIGHT
END:VTIMEZONE
END:VCALENDAR