BEGIN:VCALENDAR
VERSION:2.0
PRODID:-//wp-events-plugin.com//7.2.3.1//EN
TZID:America/Edmonton
X-WR-TIMEZONE:America/Edmonton
BEGIN:VEVENT
UID:1283@calgarycsl.org
DTSTART;TZID=America/Edmonton:20210624T190000
DTEND;TZID=America/Edmonton:20210624T200000
DTSTAMP:20210622T193624Z
URL:https://calgarycsl.org/events/thursday-evening-meditation-practice-202
 1-06-24/
SUMMARY:Thursday Evening Meditation Practice
DESCRIPTION:This weekly practice which starts Thursday\, September 10th @ 7
 :00pm\, will be led by our ministers and practitioners.\n\nClick here for 
 Zoom Link. No password necessary.
ATTACH;FMTTYPE=image/jpeg:https://calgarycsl.org/wp-content/uploads/2020/0
 8/meditation-group.png
CATEGORIES:Meditation
END:VEVENT
BEGIN:VTIMEZONE
TZID:America/Edmonton
X-LIC-LOCATION:America/Edmonton
BEGIN:DAYLIGHT
DTSTART:20210314T030000
TZOFFSETFROM:-0700
TZOFFSETTO:-0600
TZNAME:MDT
END:DAYLIGHT
END:VTIMEZONE
END:VCALENDAR