BEGIN:VCALENDAR
VERSION:2.0
PRODID:-//wp-events-plugin.com//7.2.3.1//EN
TZID:America/Edmonton
X-WR-TIMEZONE:America/Edmonton
BEGIN:VEVENT
UID:971@calgarycsl.org
DTSTART:20201226T170000Z
DTEND:20201226T190000Z
DTSTAMP:20201103T164614Z
URL:https://calgarycsl.org/events/the-sage-ing-circle-embracing-age-2020-1
 2-26/
SUMMARY:The Sage-ing Circle - Embracing Age
DESCRIPTION:The Sage-ing Circle - "Embracing Age"\nFacilitated by Neil &am
 p\; Sandra Butler\nWhat is sage-ing? A process that enables older people t
 o become spiritually radiant\, physically vital and healthier\, and more s
 ocially involved "elders of the tribe."\nWeekly group for seniors (60+ yrs
 )\, beginning Saturday Nov 14th\n10am- noon (via zoom)\nLove offering acce
 pted\nSign up by email to sandrabutler4726@gmail.com
ATTACH;FMTTYPE=image/jpeg:https://calgarycsl.org/wp-content/uploads/2020/1
 1/Picture1.png
CATEGORIES:Discussion Group
END:VEVENT
END:VCALENDAR