BEGIN:VCALENDAR
VERSION:2.0
PRODID:-//wp-events-plugin.com//7.2.3.1//EN
TZID:America/Edmonton
X-WR-TIMEZONE:America/Edmonton
BEGIN:VEVENT
UID:3513@calgarycsl.org
DTSTART;TZID=America/Edmonton:20240604T183000
DTEND;TZID=America/Edmonton:20240604T210000
DTSTAMP:20240509T174858Z
URL:https://calgarycsl.org/events/the-essential-ernest-holmes-2024-06-04/
SUMMARY:The Essential Ernest Holmes
DESCRIPTION:Starts June 4 and runs Tuesday evenings until July 30th.\n\nA r
 equired course for anyone who wishes to become a Licensed Spiritual Practi
 tioner.\n\nThe Essential Ernest Holmes is a comprehensive course that expl
 ores the profound writings of Ernest Holmes\, providing a deep exploration
  of his transformative teachings. From his introspective and devotional wr
 itings to his impassioned teachings to future leaders\, this course uncove
 rs the essence of Holmes’ wisdom. By recognizing his love for humanity a
 nd his ability to perceive beyond surface-level problems\, participants wi
 ll discover the timeless relevance of his teachings which foreshadowed mod
 ern psychology. Holmes emphasized the boundless power of human choice in s
 haping thoughts and emotions\, connecting the human condition to our infin
 ite potential. This course serves as an illuminating exploration of Ernest
  Holmes’ writings\, enabling participants to delve into the depths of hi
 s teachings and gain invaluable insights into the nature of consciousness 
 and spirituality.\n\nRequired Texts : Science Of Mind\, by Ernest Holmes a
 nd The Essential Ernest Holmes by Jesse Jennings\n\nCourse fee: $240 send 
 your e-transfer to office@calgarycsl.org\n\nPayment can be broken into pay
 ments\, contact the office to arrange.
ATTACH;FMTTYPE=image/jpeg:https://calgarycsl.org/wp-content/uploads/2024/0
 4/Essential-Ernest-Cir-400x400-1.png
CATEGORIES:Course
END:VEVENT
BEGIN:VTIMEZONE
TZID:America/Edmonton
X-LIC-LOCATION:America/Edmonton
BEGIN:DAYLIGHT
DTSTART:20240310T030000
TZOFFSETFROM:-0700
TZOFFSETTO:-0600
TZNAME:MDT
END:DAYLIGHT
END:VTIMEZONE
END:VCALENDAR