BEGIN:VCALENDAR
VERSION:2.0
PRODID:-//wp-events-plugin.com//7.2.3.1//EN
TZID:America/Edmonton
X-WR-TIMEZONE:America/Edmonton
BEGIN:VEVENT
UID:1200@calgarycsl.org
DTSTART:20210512T013000Z
DTEND:20210512T040000Z
DTSTAMP:20210331T183517Z
URL:https://calgarycsl.org/events/the-art-of-uncertainty-2021-05-11/
SUMMARY:The Art of Uncertainty
DESCRIPTION:New Course for April 2021!\n\nTHE ART OF UNCERTAINTY\n\nHow to 
 Live in the Mystery of Life and Love It\n\nBook by Dennis Merritt Jones\, 
 Facilitated by Dr. Pat Campbell\n\n Tuesdays\, April 20 – May 11\n\n6:3
 0 – 9:00 pm\, MST\, via Zoom\n\n Course fee: $65 (payable through e-tra
 nsfer or PayPal) plus the book (on Amazon)\n\n “What if we could learn 
 how to be at peace with uncertainty and embrace the possibility that the f
 uture is full of mystery\, excitement\, and unlimited opportunity?” 
ATTACH;FMTTYPE=image/jpeg:https://calgarycsl.org/wp-content/uploads/2021/0
 3/mar-31-2.jpg
CATEGORIES:Course
END:VEVENT
END:VCALENDAR