BEGIN:VCALENDAR
VERSION:2.0
PRODID:-//wp-events-plugin.com//7.2.3.1//EN
TZID:America/Edmonton
X-WR-TIMEZONE:America/Edmonton
BEGIN:VEVENT
UID:1240@calgarycsl.org
DTSTART;TZID=America/Phoenix:20210629T183000
DTEND;TZID=America/Phoenix:20210629T210000
DTSTAMP:20210608T151737Z
URL:https://calgarycsl.org/events/the-art-of-abundance-2021-06-29/
SUMMARY:The Art of Abundance
DESCRIPTION:The Art of Abundance\n\n\nTen Rules for a Prosperous Life\n\nA 
 book by Dennis Merritt Jones\, Facilitated by Dr. Pat Campbell.\n\nMoving 
 from a life of “not enough” to “more than enough” isn’t as diffi
 cult as you may think! Follow these ten rules\, or practices\, and you’l
 l discover a “whole” new life!\n\nTuesdays\, Jun 1 - June 29. \n\n6:3
 0 – 9:00 pm\, MST\, via Zoom (info sent out before 1st class).\n\nCourse
  fee: $85 (payable through e-transfer -please put your email address a
 nd name of class in the message box\, PayPal or call the office at 403
 -244-8728) plus the book (on Amazon).\n\n&nbsp\;\n\n
ATTACH;FMTTYPE=image/jpeg:https://calgarycsl.org/wp-content/uploads/2021/0
 5/class.jpg
CATEGORIES:Course
END:VEVENT
BEGIN:VTIMEZONE
TZID:America/Phoenix
X-LIC-LOCATION:America/Phoenix
BEGIN:STANDARD
DTSTART:20200629T183000
TZOFFSETFROM:-0700
TZOFFSETTO:-0700
TZNAME:MST
END:STANDARD
END:VTIMEZONE
END:VCALENDAR