BEGIN:VCALENDAR
VERSION:2.0
PRODID:-//wp-events-plugin.com//7.2.3.1//EN
TZID:America/Edmonton
X-WR-TIMEZONE:America/Edmonton
BEGIN:VEVENT
UID:4277@calgarycsl.org
DTSTART;TZID=America/Edmonton:20241027T123000
DTEND;TZID=America/Edmonton:20241027T140000
DTSTAMP:20241006T163452Z
URL:https://calgarycsl.org/events/sunday-workshop-journal-writing-made-eas
 y/
SUMMARY:Sunday Workshop - "Journal Writing Made Easy"
DESCRIPTION:Would you like to …\n\n· sleep better?\n\n· improve your st
 ate-of-mind / mental health?\n\n· deepen your spiritual awareness?\n\nYou
  will come away from this workshop with a simple\, flexible method of jour
 nal writing that you can use to release\, reflect\, relax and renew.\n\nFa
 cilitator Marjorie Contenti developed and has used this method\, daily\, f
 or more than 30 years.\n\nTime: Oct. 27\, 12:30 – 2:00 p.m. $20 suggeste
 d\n\nRegister by e-transfer to office@calgarycsl.org or at the Soul Shop o
 n a Sunday\, or drop-in. Limit: 30 participants.
ATTACH;FMTTYPE=image/jpeg:https://calgarycsl.org/wp-content/uploads/2024/1
 0/Picture1.png
CATEGORIES:Workshop
END:VEVENT
BEGIN:VTIMEZONE
TZID:America/Edmonton
X-LIC-LOCATION:America/Edmonton
BEGIN:DAYLIGHT
DTSTART:20240310T030000
TZOFFSETFROM:-0700
TZOFFSETTO:-0600
TZNAME:MDT
END:DAYLIGHT
END:VTIMEZONE
END:VCALENDAR