BEGIN:VCALENDAR
VERSION:2.0
PRODID:-//wp-events-plugin.com//7.2.3.1//EN
TZID:America/Edmonton
X-WR-TIMEZONE:America/Edmonton
BEGIN:VEVENT
UID:4349@calgarycsl.org
DTSTART;TZID=America/Edmonton:20250622T123000
DTEND;TZID=America/Edmonton:20250622T140000
DTSTAMP:20250528T200505Z
URL:https://calgarycsl.org/events/sunday-workshop-after-sunday-celebration
 -7/
SUMMARY:Sunday Workshop - “Change is gonna do me Good”
DESCRIPTION:“Change is gonna do me Good” - with Lesley McNamara\nHow do
  we grieve our losses in life? What can we discover about thriving after o
 ngoing losses?\nLet’s explore together the idea of loss and how we can b
 ecome replenished.\nJoin me as we unpack loss in a new way to free ourselv
 es from being held hostage to our past.\nChange IS gonna do us all GOOD.
ATTACH;FMTTYPE=image/jpeg:https://calgarycsl.org/wp-content/uploads/2025/0
 1/change-is-a-good-thing.png
CATEGORIES:Workshop
END:VEVENT
BEGIN:VTIMEZONE
TZID:America/Edmonton
X-LIC-LOCATION:America/Edmonton
BEGIN:DAYLIGHT
DTSTART:20250309T030000
TZOFFSETFROM:-0700
TZOFFSETTO:-0600
TZNAME:MDT
END:DAYLIGHT
END:VTIMEZONE
END:VCALENDAR