BEGIN:VCALENDAR
VERSION:2.0
PRODID:-//wp-events-plugin.com//7.2.3.1//EN
TZID:America/Edmonton
X-WR-TIMEZONE:America/Edmonton
BEGIN:VEVENT
UID:4348@calgarycsl.org
DTSTART;TZID=America/Edmonton:20251130T123000
DTEND;TZID=America/Edmonton:20251130T140000
DTSTAMP:20251103T205927Z
URL:https://calgarycsl.org/events/sunday-workshop-after-sunday-celebration
 -6/
SUMMARY:"Accessing the Wisdom of Your Heart" Sunday Session After Sunday Ce
 lebration
DESCRIPTION:Facilitated by Valda Harris\, RScP\nNovember 30\, 2025\n12:30 t
 o 2:00\nDuring this interactive session you will:\n\n\n 	learn when (and w
 hy) to access your heart wisdom\n 	learn two powerful awareness tools to a
 pply in the moment\n 	practice receiving your heart wisdom to use in your 
 own life for more L.I.F.E.\n\n$20 Love Donation can be made in advance by 
 sending an e-transfer to office@calgarycsl.org
ATTACH;FMTTYPE=image/jpeg:https://calgarycsl.org/wp-content/uploads/2025/0
 1/Radiant-Heart-and-Triangular-Light.png
CATEGORIES:Workshop
END:VEVENT
BEGIN:VTIMEZONE
TZID:America/Edmonton
X-LIC-LOCATION:America/Edmonton
BEGIN:STANDARD
DTSTART:20251102T010000
TZOFFSETFROM:-0600
TZOFFSETTO:-0700
TZNAME:MST
END:STANDARD
END:VTIMEZONE
END:VCALENDAR