BEGIN:VCALENDAR
VERSION:2.0
PRODID:-//wp-events-plugin.com//7.2.3.1//EN
TZID:America/Edmonton
X-WR-TIMEZONE:America/Edmonton
BEGIN:VEVENT
UID:4347@calgarycsl.org
DTSTART;TZID=America/Edmonton:20251026T123000
DTEND;TZID=America/Edmonton:20251026T140000
DTSTAMP:20250929T181827Z
URL:https://calgarycsl.org/events/sunday-workshop-after-sunday-celebration
 -5/
SUMMARY:"Moving Through Blocks on the Journey" - Sunday Session with Rev Do
 uglas Craig
DESCRIPTION:Have you ever had a dream and then had blocks arise that stop y
 ou\, before you even began\, or during the journey? \n\nBlocks can be pres
 ented to you mentally\, emotionally and/or physically.             
                \n\nToday's session presents ideas on recognizing\,
  managing and moving beyond the blocks that we may encounter on our journe
 y.\n\nSo that you can keep your dreams and goals alive!
ATTACH;FMTTYPE=image/jpeg:https://calgarycsl.org/wp-content/uploads/2025/0
 1/image-14.png
CATEGORIES:Workshop
END:VEVENT
BEGIN:VTIMEZONE
TZID:America/Edmonton
X-LIC-LOCATION:America/Edmonton
BEGIN:DAYLIGHT
DTSTART:20250309T030000
TZOFFSETFROM:-0700
TZOFFSETTO:-0600
TZNAME:MDT
END:DAYLIGHT
END:VTIMEZONE
END:VCALENDAR