BEGIN:VCALENDAR
VERSION:2.0
PRODID:-//wp-events-plugin.com//7.2.3.1//EN
TZID:America/Edmonton
X-WR-TIMEZONE:America/Edmonton
BEGIN:VEVENT
UID:5470@calgarycsl.org
DTSTART:20261004T230000Z
DTEND:20261005T030000Z
DTSTAMP:20260305T172713Z
URL:https://calgarycsl.org/events/sunday-evening-sanctuary-ongoing-2026-10
 -04/
SUMMARY:Sunday Evening Sanctuary Ongoing
DESCRIPTION:
CATEGORIES:External Private
END:VEVENT
END:VCALENDAR