BEGIN:VCALENDAR
VERSION:2.0
PRODID:-//wp-events-plugin.com//7.2.3.1//EN
TZID:America/Edmonton
X-WR-TIMEZONE:America/Edmonton
BEGIN:VEVENT
UID:5454@calgarycsl.org
DTSTART:20260614T230000Z
DTEND:20260615T030000Z
DTSTAMP:20260305T172713Z
URL:https://calgarycsl.org/events/sunday-evening-sanctuary-ongoing-2026-06
 -14/
SUMMARY:Sunday Evening Sanctuary Ongoing
DESCRIPTION:
CATEGORIES:External Private
END:VEVENT
END:VCALENDAR