BEGIN:VCALENDAR
VERSION:2.0
PRODID:-//wp-events-plugin.com//7.2.3.1//EN
TZID:America/Edmonton
X-WR-TIMEZONE:America/Edmonton
BEGIN:VEVENT
UID:4611@calgarycsl.org
DTSTART;TZID=America/Edmonton:20251221T100000
DTEND;TZID=America/Edmonton:20251221T120000
DTSTAMP:20251210T193910Z
URL:https://calgarycsl.org/events/sunday-celebration-2025-12-21/
SUMMARY:Special Holiday Sunday Celebration "One Light\, Many Flames"
DESCRIPTION:Join us as we celebrate the season and the coming of the Light 
 with a heart-opening ceremony of renewal and illumination. \n\nPresented b
 y our staff ministers\, practitioners\, and student practitioners\, One Li
 ght. Many Flames. invites you into a sacred space where the eternal Light 
 within each of us is kindled and shared. Come and experience the warmth of
  community\, the beauty of tradition\, and the joy of knowing that one Lig
 ht shines as many flames.  All are welcome! \n\nThe morning mediation is a
 t 10:00 and led by Practitioner\, Fran Watson. \n\nA pot luck will follow 
 the service!  
ATTACH;FMTTYPE=image/jpeg:https://calgarycsl.org/wp-content/uploads/2025/1
 0/grief-and-loss.avif
CATEGORIES:Sunday Celebration
END:VEVENT
BEGIN:VTIMEZONE
TZID:America/Edmonton
X-LIC-LOCATION:America/Edmonton
BEGIN:STANDARD
DTSTART:20251102T010000
TZOFFSETFROM:-0600
TZOFFSETTO:-0700
TZNAME:MST
END:STANDARD
END:VTIMEZONE
END:VCALENDAR