BEGIN:VCALENDAR
VERSION:2.0
PRODID:-//wp-events-plugin.com//7.2.3.1//EN
TZID:America/Edmonton
X-WR-TIMEZONE:America/Edmonton
BEGIN:VEVENT
UID:4609@calgarycsl.org
DTSTART;TZID=America/Edmonton:20251207T100000
DTEND;TZID=America/Edmonton:20251207T120000
DTSTAMP:20250121T190006Z
URL:https://calgarycsl.org/events/sunday-celebration-2025-12-07/
SUMMARY:Sunday Celebration
DESCRIPTION:Sunday Celebration Schedule:\n10:00 am Pre-Service Meditation\n
 \n10:30 am Celebration (Uplifting Music and Inspirational Talk)\n\n11:45 a
 m Social Time and Spiritual Support Available\nAdditional Information\nAbo
 ve events are both in-person and online.
ATTACH;FMTTYPE=image/jpeg:https://calgarycsl.org/wp-content/uploads/2020/0
 4/sanctuarycrop.jpg
CATEGORIES:Sunday Celebration
END:VEVENT
BEGIN:VTIMEZONE
TZID:America/Edmonton
X-LIC-LOCATION:America/Edmonton
BEGIN:STANDARD
DTSTART:20251102T010000
TZOFFSETFROM:-0600
TZOFFSETTO:-0700
TZNAME:MST
END:STANDARD
END:VTIMEZONE
END:VCALENDAR