BEGIN:VCALENDAR
VERSION:2.0
PRODID:-//wp-events-plugin.com//7.2.3.1//EN
TZID:America/Edmonton
X-WR-TIMEZONE:America/Edmonton
BEGIN:VEVENT
UID:2673@calgarycsl.org
DTSTART;TZID=America/Edmonton:20250706T121500
DTEND;TZID=America/Edmonton:20250706T140000
DTSTAMP:20250414T163458Z
URL:https://calgarycsl.org/events/stampede-bbq/
SUMMARY:Stampede BBQ!
DESCRIPTION:Yee Haw!\n\nCome on out to the parking lot after Sunday Service
  with your lawn chair\, cowboy hat and your boots on to celebrate Stampede
  with your CCSL community.\n\nLunch will be catered by Big Ts BBQ\, and th
 e menu will be Pulled Pork on a bun with beans and Coleslaw. There will be
  Gluten free and a Vegetarian option! There will also be an assortment of 
 Pop and water.\n\nAND there will be music by our very own Amy Bishop!\n\nS
 uggested Love Offering of $10\, either through cash at the event\, or send
  an E-transfer to office@calgarycsl.org\n\nIn case of inclement weather\, 
 the event will be held inside.
ATTACH;FMTTYPE=image/jpeg:https://calgarycsl.org/wp-content/uploads/2020/0
 6/bbq.jpg
CATEGORIES:Families,More CCSL Events,Social
END:VEVENT
BEGIN:VTIMEZONE
TZID:America/Edmonton
X-LIC-LOCATION:America/Edmonton
BEGIN:DAYLIGHT
DTSTART:20250309T030000
TZOFFSETFROM:-0700
TZOFFSETTO:-0600
TZNAME:MDT
END:DAYLIGHT
END:VTIMEZONE
END:VCALENDAR