BEGIN:VCALENDAR
VERSION:2.0
PRODID:-//wp-events-plugin.com//7.2.3.1//EN
TZID:America/Edmonton
X-WR-TIMEZONE:America/Edmonton
BEGIN:VEVENT
UID:2001@calgarycsl.org
DTSTART;TZID=America/Edmonton:20240630T120000
DTEND;TZID=America/Edmonton:20240630T140000
DTSTAMP:20240610T154739Z
URL:https://calgarycsl.org/events/stamp-anada-community-celebration/
SUMMARY:Canada Day Community Celebration!
DESCRIPTION:Join us for lunch\, music and Community!\nCome meet some Spirit
 ually Like Minded People.\nStrap on your Stampede gear\, bring some sunscr
 een and a lawn chair.  Outdoor event\, weather depending (or we will move
  it inside instead).\nExpect a whole lot of fun with different activities 
 planned.\nEnjoy lunch provided by BIGT's BBQ - $10 suggested donation for 
 adults\nSign up for your food preference in the Lobby after SUNDAY CELEBRA
 TION\nPlenty of street parking
ATTACH;FMTTYPE=image/jpeg:https://calgarycsl.org/wp-content/uploads/2022/0
 6/thumbnail_1718034094626blob.jpg
CATEGORIES:Families,Social
END:VEVENT
BEGIN:VTIMEZONE
TZID:America/Edmonton
X-LIC-LOCATION:America/Edmonton
BEGIN:DAYLIGHT
DTSTART:20240310T030000
TZOFFSETFROM:-0700
TZOFFSETTO:-0600
TZNAME:MDT
END:DAYLIGHT
END:VTIMEZONE
END:VCALENDAR