BEGIN:VCALENDAR
VERSION:2.0
PRODID:-//wp-events-plugin.com//7.2.3.1//EN
TZID:America/Edmonton
X-WR-TIMEZONE:America/Edmonton
BEGIN:VEVENT
UID:2007@calgarycsl.org
DTSTART;TZID=America/Edmonton:20220918T120000
DTEND;TZID=America/Edmonton:20220918T133000
DTSTAMP:20220825T194111Z
URL:https://calgarycsl.org/events/spiritual-practitioner-and-5-years-in-ou
 r-building-celebration/
SUMMARY:Spiritual Practitioner and '5 Years in Our Building' Celebration!
DESCRIPTION:&nbsp\;\n\nThere will be cake!
ATTACH;FMTTYPE=image/jpeg:https://calgarycsl.org/wp-content/uploads/2022/0
 7/buildingexterior-scaled.jpg
CATEGORIES:Families,More CCSL Events,Social
END:VEVENT
BEGIN:VTIMEZONE
TZID:America/Edmonton
X-LIC-LOCATION:America/Edmonton
BEGIN:DAYLIGHT
DTSTART:20220313T030000
TZOFFSETFROM:-0700
TZOFFSETTO:-0600
TZNAME:MDT
END:DAYLIGHT
END:VTIMEZONE
END:VCALENDAR