BEGIN:VCALENDAR
VERSION:2.0
PRODID:-//wp-events-plugin.com//7.2.3.1//EN
TZID:America/Edmonton
X-WR-TIMEZONE:America/Edmonton
BEGIN:VEVENT
UID:2011@calgarycsl.org
DTSTART;TZID=America/Edmonton:20250515T070000
DTEND;TZID=America/Edmonton:20250516T180000
DTSTAMP:20250414T155456Z
URL:https://calgarycsl.org/events/spinning-babies/
SUMMARY:Spinning Babies
DESCRIPTION:Daytime May 15 and 16 in the Sanctuary Space.\n\n&nbsp\;\n\nInt
 erested in attending?  Contact Lisa via email
CATEGORIES:External Private
END:VEVENT
BEGIN:VTIMEZONE
TZID:America/Edmonton
X-LIC-LOCATION:America/Edmonton
BEGIN:DAYLIGHT
DTSTART:20250309T030000
TZOFFSETFROM:-0700
TZOFFSETTO:-0600
TZNAME:MDT
END:DAYLIGHT
END:VTIMEZONE
END:VCALENDAR