BEGIN:VCALENDAR
VERSION:2.0
PRODID:-//wp-events-plugin.com//7.2.3.1//EN
TZID:America/Edmonton
X-WR-TIMEZONE:America/Edmonton
BEGIN:VEVENT
UID:5419@calgarycsl.org
DTSTART;TZID=America/Edmonton:20260513T070000
DTEND;TZID=America/Edmonton:20260514T170000
DTSTAMP:20260112T183005Z
URL:https://calgarycsl.org/events/spinning-babies-2/
SUMMARY:Spinning Babies
DESCRIPTION:Contact Lisa at lisacryderman@spinningbabies.com if interested\
 n\n&nbsp\;\n\nSanctuary Space
CATEGORIES:External Private
END:VEVENT
BEGIN:VTIMEZONE
TZID:America/Edmonton
X-LIC-LOCATION:America/Edmonton
BEGIN:DAYLIGHT
DTSTART:20260308T030000
TZOFFSETFROM:-0700
TZOFFSETTO:-0600
TZNAME:MDT
END:DAYLIGHT
END:VTIMEZONE
END:VCALENDAR