BEGIN:VCALENDAR
VERSION:2.0
PRODID:-//wp-events-plugin.com//7.2.3.1//EN
TZID:America/Edmonton
X-WR-TIMEZONE:America/Edmonton
BEGIN:VEVENT
UID:1201@calgarycsl.org
DTSTART:20210502T193000Z
DTEND:20210502T203000Z
DTSTAMP:20210409T193759Z
URL:https://calgarycsl.org/events/soup-for-the-soul/
SUMMARY:Soup for The Soul
DESCRIPTION:Let’s get together on Sunday\, May 2 at Big T's BBQ to make o
 ur lunchtime favorite healthy sandwiches – perfect vehicles for complex 
 carbohydrates\, good-for-you fats\, fiber-packed veggies\, and lean protei
 n. These sandwiches will be donated to CUPS.\n\nTo Signup Click Volunteer 
 for Calgary Centre for Spiritual Living \nor contact Leslie: leslie@bigts
 bbq.com or\n403-479-8910
ATTACH;FMTTYPE=image/jpeg:https://calgarycsl.org/wp-content/uploads/2021/0
 4/C4C-logo-1.png
CATEGORIES:Social
END:VEVENT
END:VCALENDAR