BEGIN:VCALENDAR
VERSION:2.0
PRODID:-//wp-events-plugin.com//7.2.3.1//EN
TZID:America/Edmonton
X-WR-TIMEZONE:America/Edmonton
BEGIN:VEVENT
UID:5486@calgarycsl.org
DTSTART;TZID=America/Edmonton:20260517T123000
DTEND;TZID=America/Edmonton:20260517T140000
DTSTAMP:20260413T185227Z
URL:https://calgarycsl.org/events/sound-bath-2/
SUMMARY:Sound Bath!
DESCRIPTION:Enjoy a one-hour Sound Bath after Sunday Celebration in the cla
 ssroom space.\n\nBring a water bottle\, pillow and yoga matt.
CATEGORIES:Meditation,More CCSL Events
END:VEVENT
BEGIN:VTIMEZONE
TZID:America/Edmonton
X-LIC-LOCATION:America/Edmonton
BEGIN:DAYLIGHT
DTSTART:20260308T030000
TZOFFSETFROM:-0700
TZOFFSETTO:-0600
TZNAME:MDT
END:DAYLIGHT
END:VTIMEZONE
END:VCALENDAR