BEGIN:VCALENDAR
VERSION:2.0
PRODID:-//wp-events-plugin.com//7.2.3.1//EN
TZID:America/Edmonton
X-WR-TIMEZONE:America/Edmonton
BEGIN:VEVENT
UID:4278@calgarycsl.org
DTSTART;TZID=America/Edmonton:20241102T150000
DTEND;TZID=America/Edmonton:20241102T180000
DTSTAMP:20241010T165301Z
URL:https://calgarycsl.org/events/soul-sanctuary/
SUMMARY:SOUL SANCTUARY
DESCRIPTION:Private Event
CATEGORIES:External Private
END:VEVENT
BEGIN:VTIMEZONE
TZID:America/Edmonton
X-LIC-LOCATION:America/Edmonton
BEGIN:DAYLIGHT
DTSTART:20240310T030000
TZOFFSETFROM:-0700
TZOFFSETTO:-0600
TZNAME:MDT
END:DAYLIGHT
END:VTIMEZONE
END:VCALENDAR