BEGIN:VCALENDAR
VERSION:2.0
PRODID:-//wp-events-plugin.com//7.2.3.1//EN
TZID:America/Edmonton
X-WR-TIMEZONE:America/Edmonton
BEGIN:VEVENT
UID:4868@calgarycsl.org
DTSTART;TZID=America/Edmonton:20250613T180000
DTEND;TZID=America/Edmonton:20250613T200000
DTSTAMP:20250504T173651Z
URL:https://calgarycsl.org/events/soul-sanctuary-8/
SUMMARY:Soul Sanctuary
DESCRIPTION:Evening 6 - 8 in the Sanctuary
CATEGORIES:External Private
END:VEVENT
BEGIN:VTIMEZONE
TZID:America/Edmonton
X-LIC-LOCATION:America/Edmonton
BEGIN:DAYLIGHT
DTSTART:20250309T030000
TZOFFSETFROM:-0700
TZOFFSETTO:-0600
TZNAME:MDT
END:DAYLIGHT
END:VTIMEZONE
END:VCALENDAR