BEGIN:VCALENDAR
VERSION:2.0
PRODID:-//wp-events-plugin.com//7.2.3.1//EN
TZID:America/Edmonton
X-WR-TIMEZONE:America/Edmonton
BEGIN:VEVENT
UID:5239@calgarycsl.org
DTSTART;TZID=America/Edmonton:20260213T183000
DTEND;TZID=America/Edmonton:20260213T203000
DTSTAMP:20251208T211859Z
URL:https://calgarycsl.org/events/soul-sanctuary-14/
SUMMARY:SOUL SANCTUARY
DESCRIPTION:Private Event
CATEGORIES:External Private
END:VEVENT
BEGIN:VTIMEZONE
TZID:America/Edmonton
X-LIC-LOCATION:America/Edmonton
BEGIN:STANDARD
DTSTART:20251102T010000
TZOFFSETFROM:-0600
TZOFFSETTO:-0700
TZNAME:MST
END:STANDARD
END:VTIMEZONE
END:VCALENDAR