BEGIN:VCALENDAR
VERSION:2.0
PRODID:-//wp-events-plugin.com//7.2.3.1//EN
TZID:America/Edmonton
X-WR-TIMEZONE:America/Edmonton
BEGIN:VEVENT
UID:1894@calgarycsl.org
DTSTART;TZID=America/Edmonton:20220611T120000
DTEND;TZID=America/Edmonton:20220611T143000
DTSTAMP:20220518T154218Z
URL:https://calgarycsl.org/events/soul-cards-workshop-2/
SUMMARY:Soul Cards Workshop
DESCRIPTION:Facilitated by Beth Haase\, RScP\n\n\nDiscover your soul’s wh
 ispers for lessons\, blessings\, \n\nwonders and miracles\n\n\nSaturday\, 
 June 11\nNoon - 2:30 PM\nCost: $20\n\n\nWhat were your lessons and blessin
 gs from these past 2 years?\n\nWhat wonders and miracles are awaiting you 
 as you move forward?\n\nLet your Soul speak through images and whispers to
  discover what you’ve learned and what is next\n\nSOUL CARD WORKSHOPS JU
 NE 9 (Thursday) and JUNE 11 (Saturday)\n\n
ATTACH;FMTTYPE=image/jpeg:https://calgarycsl.org/wp-content/uploads/2020/0
 6/Head-Crack-Sphere.jpg
CATEGORIES:Workshop
END:VEVENT
BEGIN:VTIMEZONE
TZID:America/Edmonton
X-LIC-LOCATION:America/Edmonton
BEGIN:DAYLIGHT
DTSTART:20220313T030000
TZOFFSETFROM:-0700
TZOFFSETTO:-0600
TZNAME:MDT
END:DAYLIGHT
END:VTIMEZONE
END:VCALENDAR