BEGIN:VCALENDAR
VERSION:2.0
PRODID:-//wp-events-plugin.com//7.2.3.1//EN
TZID:America/Edmonton
X-WR-TIMEZONE:America/Edmonton
BEGIN:VEVENT
UID:2947@calgarycsl.org
DTSTART;TZID=America/Edmonton:20230915T193000
DTEND;TZID=America/Edmonton:20230915T213000
DTSTAMP:20230731T184512Z
URL:https://calgarycsl.org/events/sonia-deleo-in-concert/
SUMMARY:Sonia Deleo in Concert
DESCRIPTION:Besides being a member of the CCSL community\, Sonia Deleo is a
  Calgary based singer-songwriter who works in a half pitch of musical gran
 diosity and sensitive poetics. Capable of enormous operatic crescendos and
  full-hearted intimacy\, her warmth\, wit\, and drama feel at home in all 
 the wide-ranging genres she works in. Fusing folk\, soul\, and rock\, her 
 masterful vocals remain at the core of her work and lift it into an enormo
 us collection far more than the sum of its parts. Stirring ballads of love
 \, abandonment\, and redemption\, a quality of storytelling shines through
  all of her songs\, making clear a distinct personality and an unflinching
  point of view.\n\nExpect to be treated to an amazing voice and spectacula
 r songwriting for this 90 minute concert in our Sanctuary.\n\nTicket Price
  : Pre-purchase $20 via e-transfer (office@calgarycsl.org) or cash at the 
 Centre.  Otherwise $25 cash at the door.\n\nDoors open 7:30 PM.\n\nConcer
 t begins at 8:00 PM\n\nSnacks/pop/juice will be available for purchase.
ATTACH;FMTTYPE=image/jpeg:https://calgarycsl.org/wp-content/uploads/2023/0
 7/Sonia-Concert.jpg
CATEGORIES:Concert
LOCATION:Calgary Centre for Spiritual Living\, 4411 Manitoba Rd SE\, Calgar
 y\, AB\, T2G 4B9\, Canada
X-APPLE-STRUCTURED-LOCATION;VALUE=URI;X-ADDRESS=4411 Manitoba Rd SE\, Calga
 ry\, AB\, T2G 4B9\, Canada;X-APPLE-RADIUS=100;X-TITLE=Calgary Centre for S
 piritual Living:geo:0,0
END:VEVENT
BEGIN:VTIMEZONE
TZID:America/Edmonton
X-LIC-LOCATION:America/Edmonton
BEGIN:DAYLIGHT
DTSTART:20230312T030000
TZOFFSETFROM:-0700
TZOFFSETTO:-0600
TZNAME:MDT
END:DAYLIGHT
END:VTIMEZONE
END:VCALENDAR