BEGIN:VCALENDAR
VERSION:2.0
PRODID:-//wp-events-plugin.com//7.2.3.1//EN
TZID:America/Edmonton
X-WR-TIMEZONE:America/Edmonton
BEGIN:VEVENT
UID:2014@calgarycsl.org
DTSTART;TZID=America/Edmonton:20221004T190000
DTEND;TZID=America/Edmonton:20221004T190000
DTSTAMP:20220901T175723Z
URL:https://calgarycsl.org/events/social-committee-initial-meeting/
SUMMARY:Social Committee Initial Meeting
DESCRIPTION:Let's grow\, enhance and engage our Spiritual Community in both
  fun and meaningful ways!
ATTACH;FMTTYPE=image/jpeg:https://calgarycsl.org/wp-content/uploads/2020/0
 6/20190126_DI-sorting-crew1-2-scaled.jpg
CATEGORIES:Discussion Group,Meeting,Social
END:VEVENT
BEGIN:VTIMEZONE
TZID:America/Edmonton
X-LIC-LOCATION:America/Edmonton
BEGIN:DAYLIGHT
DTSTART:20220313T030000
TZOFFSETFROM:-0700
TZOFFSETTO:-0600
TZNAME:MDT
END:DAYLIGHT
END:VTIMEZONE
END:VCALENDAR