BEGIN:VCALENDAR
VERSION:2.0
PRODID:-//wp-events-plugin.com//7.2.3.1//EN
TZID:America/Edmonton
X-WR-TIMEZONE:America/Edmonton
BEGIN:VEVENT
UID:5101@calgarycsl.org
DTSTART;TZID=America/Edmonton:20250920T190000
DTEND;TZID=America/Edmonton:20250920T214500
DTSTAMP:20250904T000753Z
URL:https://calgarycsl.org/events/sinner-the-full-production-show-2/
SUMMARY:Sinner!  The Full Production Show with 2 dates to choose from
DESCRIPTION:SINNER is a raw\, hilarious\, and unflinching one-woman musical
  tragicomedy. Through laughter\, storytelling\, and song\, Alberta's own M
 arla Torgerson invites the audience on a journey of deconstruction — of 
 church\, family\, sexuality\, and identity — exposing the painful absurd
 ities of evangelical patriarchy with vulnerability and wit.\n\nWritten and
  performed by Marla\, this powerful show weaves biting satire\, heartbreak
 ing memoir\, and original music into a bold\, tender reclamation of voice 
 and Self.\n\nDoors Open 6:30 PM\n\nShow Starts at 7:00 PM\n\nBeverages of 
 all sorts plus snacks will be available for purchase\nTickets are just $25
  for CCSL Members ($10 discount)\, send your E-transfer to office@calgaryc
 sl.org (include which date you wish to attend in the memo)
ATTACH;FMTTYPE=image/jpeg:https://calgarycsl.org/wp-content/uploads/2025/0
 8/I-am-sharing-big-show-poster-start-18-x-24-in-2-with-you-pdf.jpg
CATEGORIES:Concert,More CCSL Events
END:VEVENT
BEGIN:VTIMEZONE
TZID:America/Edmonton
X-LIC-LOCATION:America/Edmonton
BEGIN:DAYLIGHT
DTSTART:20250309T030000
TZOFFSETFROM:-0700
TZOFFSETTO:-0600
TZNAME:MDT
END:DAYLIGHT
END:VTIMEZONE
END:VCALENDAR