BEGIN:VCALENDAR
VERSION:2.0
PRODID:-//wp-events-plugin.com//7.2.3.1//EN
TZID:America/Edmonton
X-WR-TIMEZONE:America/Edmonton
BEGIN:VEVENT
UID:4883@calgarycsl.org
DTSTART;TZID=America/Edmonton:20250914T130000
DTEND;TZID=America/Edmonton:20250914T153000
DTSTAMP:20250715T201507Z
URL:https://calgarycsl.org/events/sinner-6/
SUMMARY:Sinner
DESCRIPTION:Are you recovering from religious trauma? You're not alone.\n\n
 SINNER is a raw\, hilarious\, and unflinching one-woman musical tragicomed
 y about breaking up with White Jesus. Through laughter\, storytelling\, an
 d song\, Marla Torgerson invites the audience on a journey of deconstructi
 on—of church\, family\, sexuality\, and identity—exposing the painful 
 absurdities of evangelical patriarchy with wit\, vulnerability\, and a cho
 ir of Barbie-pink rage.\n\nWritten and performed by Marla\, this powerful 
 show weaves biting satire\, heartbreaking memoir\, and original music into
  a bold\, tender reclamation of voice and Self.\n\nEach workshopping perfo
 rmance includes a post-show circle for audience members to share\, reflect
 \, and integrate. This is more than theatre—it's a space to connect\, fe
 el seen\, and maybe even begin to heal.\n\nCome for the comedy. Stay for t
 he catharsis.\n\n
ATTACH;FMTTYPE=image/jpeg:https://calgarycsl.org/wp-content/uploads/2025/0
 7/Fancy.png
CATEGORIES:External Public,More CCSL Events
END:VEVENT
BEGIN:VTIMEZONE
TZID:America/Edmonton
X-LIC-LOCATION:America/Edmonton
BEGIN:DAYLIGHT
DTSTART:20250309T030000
TZOFFSETFROM:-0700
TZOFFSETTO:-0600
TZNAME:MDT
END:DAYLIGHT
END:VTIMEZONE
END:VCALENDAR