BEGIN:VCALENDAR
VERSION:2.0
PRODID:-//wp-events-plugin.com//7.2.3.1//EN
TZID:America/Edmonton
X-WR-TIMEZONE:America/Edmonton
BEGIN:VEVENT
UID:5093@calgarycsl.org
DTSTART;TZID=America/Edmonton:20250903T190000
DTEND;TZID=America/Edmonton:20250903T213000
DTSTAMP:20250828T191437Z
URL:https://calgarycsl.org/events/sinner-2/
SUMMARY:Sinner
DESCRIPTION:Have you experienced religious trauma? \n\nIf so\, you’re not
  alone.\n\nSINNER is a raw\, hilarious\, and unflinching one-woman musical
  tragicomedy. Through laughter\, storytelling\, and song\, Alberta's own M
 arla Torgerson invites the audience on a journey of deconstruction — of 
 church\, family\, sexuality\, and identity — exposing the painful absurd
 ities of evangelical patriarchy with vulnerability and wit.\n\nWritten and
  performed by Marla\, this powerful show weaves biting satire\, heartbreak
 ing memoir\, and original music into a bold\, tender reclamation of voice 
 and Self.\n\nSINNER isn’t just a show — it’s a conversation our worl
 d is aching to have. Before the final performances in September\, you have
  a unique opportunity to participate in a rare and powerful workshop exper
 ience led by Marla Torgerson herself.\n\nEach workshop includes a live per
 formance of the show in progress\, followed by a sacred sharing circle\, w
 here you can speak openly about your experience with religion\, purity cul
 ture\, patriarchy\, or spiritual trauma — or simply listen and hold spac
 e for others.  This is humanity at its most raw and tender\, in a safe pl
 ace.\n\nThis will not be part of the final performances — this is your o
 nly chance to be part of this transformative creative process.\n\nYour pre
 sence matters. Your voice matters. And your support helps bring this vital
  art to life — both as a fundraiser for CCSL and a healing experience fo
 r our community.\n\nThere is a $10 donation per workshop AND attendees wil
 l receive a $5 discount on ticket purchases for the final shows in Septemb
 er.\n\n$10 cash at the door.\n\nDoors open at 6:30\, show starts at 7:00 
 PM\n\n
ATTACH;FMTTYPE=image/jpeg:https://calgarycsl.org/wp-content/uploads/2025/0
 7/8316022E-F067-491A-A687-0260ED7F520B.png
CATEGORIES:External Public,More CCSL Events
LOCATION:Calgary Centre for Spiritual Living\, 4411 Manitoba Rd SE\, Calgar
 y\, AB\, T2G 4B9\, Canada
X-APPLE-STRUCTURED-LOCATION;VALUE=URI;X-ADDRESS=4411 Manitoba Rd SE\, Calga
 ry\, AB\, T2G 4B9\, Canada;X-APPLE-RADIUS=100;X-TITLE=Calgary Centre for S
 piritual Living:geo:0,0
END:VEVENT
BEGIN:VTIMEZONE
TZID:America/Edmonton
X-LIC-LOCATION:America/Edmonton
BEGIN:DAYLIGHT
DTSTART:20250309T030000
TZOFFSETFROM:-0700
TZOFFSETTO:-0600
TZNAME:MDT
END:DAYLIGHT
END:VTIMEZONE
END:VCALENDAR