BEGIN:VCALENDAR
VERSION:2.0
PRODID:-//wp-events-plugin.com//7.2.3.1//EN
TZID:America/Edmonton
X-WR-TIMEZONE:America/Edmonton
BEGIN:VEVENT
UID:2476@calgarycsl.org
DTSTART;TZID=America/Edmonton:20230423T133000
DTEND;TZID=America/Edmonton:20230423T153000
DTSTAMP:20230406T150802Z
URL:https://calgarycsl.org/events/singing-bowls/
SUMMARY:Sacred Sound Healing Immersion
DESCRIPTION:Gather with your CCSL Spiritual Community for a wonderful Sound
  Healing experience!\nMelissa and Andrea will bring their expertise and so
 und healing bowls for an afternoon of meditation and vibrational transform
 ation. Using what is known as binaural beats (which is healing for the par
 asympathetic nervous system as well reducing anxiety and stress) their cry
 stal singing bowls invite you on a journey of relaxation\, cell rejuvenati
 on and energy alignment.\nMelt in a bath of waves that bring balance to bo
 dy\, mind and spirit while inviting the energy of this healing modality to
  wash over you.\nThis will be an experience to remember!\n$15.00 in advanc
 e or $20.00 at the door.\nSend your e-transfer to office@calgarycsl.org\nS
 unday April 23 from 1:30 PM to 3:30 PM\nPlease bring with you:\n✨ blank
 et/yoga mat/pillow (anything you need for comfort)\n✨ your favourite cry
 stals for charging or anything else you have for extra love\n✨ your jou
 rnal and pen if you would like to capture what comes up for you in this sp
 ace\n✨ your beautiful and authentic soul\, the most important part
ATTACH;FMTTYPE=image/jpeg:https://calgarycsl.org/wp-content/uploads/2023/0
 3/5zBFLFdUQmu6byJq78hu_file.jpg
CATEGORIES:More CCSL Events,Social
END:VEVENT
BEGIN:VTIMEZONE
TZID:America/Edmonton
X-LIC-LOCATION:America/Edmonton
BEGIN:DAYLIGHT
DTSTART:20230312T030000
TZOFFSETFROM:-0700
TZOFFSETTO:-0600
TZNAME:MDT
END:DAYLIGHT
END:VTIMEZONE
END:VCALENDAR