BEGIN:VCALENDAR
VERSION:2.0
PRODID:-//wp-events-plugin.com//7.2.3.1//EN
TZID:America/Edmonton
X-WR-TIMEZONE:America/Edmonton
BEGIN:VEVENT
UID:4310@calgarycsl.org
DTSTART;TZID=America/Edmonton:20250226T183000
DTEND;TZID=America/Edmonton:20250226T210000
DTSTAMP:20241120T205655Z
URL:https://calgarycsl.org/events/self-sabotage-course-6-weeks-to-transfor
 mation-2025-02-26/
SUMMARY:Self Sabotage Course - 6 Weeks To Transformation
DESCRIPTION:Join Rev Douglas (Santa) Craig for his 6-week course Wednesday 
 evenings from 6:30 - 9:00 PM\n\n\n\nIN PERSON ONLY\n\n$150\n\nIn this cour
 se you will have the opportunity to:\n\n 	Learn how to uncover the hurt yo
 ur anger is hiding.\n 	Experience how to manage anger.\n 	Work at validati
 ng feelings of hurt in a manner that leads to self empowerment and more in
 ner peace.\n 	Understand and learn how to make the head/heart connection.\
 n 	Learn how to effectively use the 3 qualities of our mind.\n 	Understand
  and recognize the difference between core pain and circumstantial pain.\n
  	Using the 3 No’s—No Justifying\, No Blaming\, and No Attachments to 
 Outcomes\n 	Recognize how to read the signposts that Life (Spirit) provide
 s to guide us\, lead us\, direct us and inspire us in decision making\, ch
 oice selection\, and directions\, to go in our life.\n 	Understand how the
  3-prong cycle of pain works and how to break the vicious cycle.\n 	Discov
 er how to move beyond analysis and utilize the tool of observation to guid
 e\, lead\, direct and inspire our decision making.\n 	How to reclaim your 
 personal power and how to stop giving your personal power away to other pe
 ople or conditions.\n 	Begin to understand how life moves forward in circl
 es and why issues that have appeared to be dealt with recycle through our 
 experience again.\n 	Working with the nature of the inner child\, understa
 nding inner conflict and turmoil and minimizing the impact of tough experi
 ences and releasing the attachment to old wounds.\n 	Comparative 3: What w
 e can have\, what we are\, what we can do versus what we can’t have\, wh
 at we are not\, and what we can’t do.\n 	Understanding the pendulum effe
 ct in our lives\n 	The power of a balanced mind in the 7 departments of li
 fe.\n 	Development and use of positive affirmations which reinforce the st
 rengths and compensate for the weaknesses.\n
ATTACH;FMTTYPE=image/jpeg:https://calgarycsl.org/wp-content/uploads/2024/1
 1/Self-Sabotage-3.jpg
CATEGORIES:Course
LOCATION:Calgary Centre for Spiritual Living\, 4411 Manitoba Rd SE\, Calgar
 y\, AB\, T2G 4B9\, Canada
X-APPLE-STRUCTURED-LOCATION;VALUE=URI;X-ADDRESS=4411 Manitoba Rd SE\, Calga
 ry\, AB\, T2G 4B9\, Canada;X-APPLE-RADIUS=100;X-TITLE=Calgary Centre for S
 piritual Living:geo:0,0
END:VEVENT
BEGIN:VTIMEZONE
TZID:America/Edmonton
X-LIC-LOCATION:America/Edmonton
BEGIN:STANDARD
DTSTART:20241103T010000
TZOFFSETFROM:-0600
TZOFFSETTO:-0700
TZNAME:MST
END:STANDARD
END:VTIMEZONE
END:VCALENDAR