BEGIN:VCALENDAR
VERSION:2.0
PRODID:-//wp-events-plugin.com//7.2.3.1//EN
TZID:America/Edmonton
X-WR-TIMEZONE:America/Edmonton
BEGIN:VEVENT
UID:4305@calgarycsl.org
DTSTART;TZID=America/Edmonton:20250122T183000
DTEND;TZID=America/Edmonton:20250122T210000
DTSTAMP:20241217T210202Z
URL:https://calgarycsl.org/events/self-sabotage-course-6-weeks-to-transfor
 mation-2025-01-22/
SUMMARY:Self Sabotage Course - 6 Weeks To Transformation
DESCRIPTION:Join Rev Douglas (Santa) Craig for his 6-week course Wednesday 
 evenings from 6:30 - 9:00 PM\n\n\n\nIN PERSON ONLY\n\n$150\, send your e-t
 ransfer to office@calgarycsl.org\n\nIn this course you will have the oppor
 tunity to:\n\n 	Learn how to uncover the hurt your anger is hiding.\n 	Exp
 erience how to manage anger.\n 	Work at validating feelings of hurt in a m
 anner that leads to self empowerment and more inner peace.\n 	Understand a
 nd learn how to make the head/heart connection.\n 	Learn how to effectivel
 y use the 3 qualities of our mind.\n 	Understand and recognize the differe
 nce between core pain and circumstantial pain.\n 	Using the 3 No’s—No 
 Justifying\, No Blaming\, and No Attachments to Outcomes\n 	Recognize how 
 to read the signposts that Life (Spirit) provides to guide us\, lead us\, 
 direct us and inspire us in decision making\, choice selection\, and direc
 tions\, to go in our life.\n 	Understand how the 3-prong cycle of pain wor
 ks and how to break the vicious cycle.\n 	Discover how to move beyond anal
 ysis and utilize the tool of observation to guide\, lead\, direct and insp
 ire our decision making.\n 	How to reclaim your personal power and how to 
 stop giving your personal power away to other people or conditions.\n 	Beg
 in to understand how life moves forward in circles and why issues that hav
 e appeared to be dealt with recycle through our experience again.\n 	Worki
 ng with the nature of the inner child\, understanding inner conflict and t
 urmoil and minimizing the impact of tough experiences and releasing the at
 tachment to old wounds.\n 	Comparative 3: What we can have\, what we are\,
  what we can do versus what we can’t have\, what we are not\, and what w
 e can’t do.\n 	Understanding the pendulum effect in our lives\n 	The pow
 er of a balanced mind in the 7 departments of life.\n 	Development and use
  of positive affirmations which reinforce the strengths and compensate for
  the weaknesses.\n
ATTACH;FMTTYPE=image/jpeg:https://calgarycsl.org/wp-content/uploads/2024/1
 1/Self-Sabotage-3.jpg
CATEGORIES:Course
LOCATION:Calgary Centre for Spiritual Living\, 4411 Manitoba Rd SE\, Calgar
 y\, AB\, T2G 4B9\, Canada
X-APPLE-STRUCTURED-LOCATION;VALUE=URI;X-ADDRESS=4411 Manitoba Rd SE\, Calga
 ry\, AB\, T2G 4B9\, Canada;X-APPLE-RADIUS=100;X-TITLE=Calgary Centre for S
 piritual Living:geo:0,0
END:VEVENT
BEGIN:VTIMEZONE
TZID:America/Edmonton
X-LIC-LOCATION:America/Edmonton
BEGIN:STANDARD
DTSTART:20241103T010000
TZOFFSETFROM:-0600
TZOFFSETTO:-0700
TZNAME:MST
END:STANDARD
END:VTIMEZONE
END:VCALENDAR