BEGIN:VCALENDAR
VERSION:2.0
PRODID:-//wp-events-plugin.com//7.2.3.1//EN
TZID:America/Edmonton
X-WR-TIMEZONE:America/Edmonton
BEGIN:VEVENT
UID:5111@calgarycsl.org
DTSTART;TZID=America/Edmonton:20251206T100000
DTEND;TZID=America/Edmonton:20251206T120000
DTSTAMP:20251209T184603Z
URL:https://calgarycsl.org/events/saturday-sage-ing-circle-embracing-age-2
 025-12-06/
SUMMARY:Saturday Sage-ing Circle - Embracing Age
DESCRIPTION:The Sage-ing Circle – “Embracing Age” Facilitated by Neil
  &amp\; Sandra Butler.\n\nWhat is sage-ing? A process that enables older p
 eople to become spiritually radiant\, physically vital and healthier\, and
  more socially involved “elders of the tribe.”\n\nWeekly group for sen
 iors (60+ yrs). Saturday’s 10am- noon (via zoom). Love offering accepted
 .\n\nSign up by email to sandrabutler4726@gmail.com.
ATTACH;FMTTYPE=image/jpeg:https://calgarycsl.org/wp-content/uploads/2020/1
 1/Picture1.png
CATEGORIES:Discussion Group
END:VEVENT
BEGIN:VTIMEZONE
TZID:America/Edmonton
X-LIC-LOCATION:America/Edmonton
BEGIN:STANDARD
DTSTART:20251102T010000
TZOFFSETFROM:-0600
TZOFFSETTO:-0700
TZNAME:MST
END:STANDARD
END:VTIMEZONE
END:VCALENDAR