BEGIN:VCALENDAR
VERSION:2.0
PRODID:-//wp-events-plugin.com//7.2.3.1//EN
TZID:America/Edmonton
X-WR-TIMEZONE:America/Edmonton
BEGIN:VEVENT
UID:2089@calgarycsl.org
DTSTART;TZID=America/Edmonton:20230317T193000
DTEND;TZID=America/Edmonton:20230317T223000
DTSTAMP:20230227T153108Z
URL:https://calgarycsl.org/events/saint-patricks-day-dance-party/
SUMMARY:Saint Patrick's Day Dance Party!
DESCRIPTION:Join Oliver Miguel and his party band "Revolucion" for a high-e
 nergy fun night!\n\nWine\, beer and snacks will be available for cash purc
 hase.\n\nGet your tickets by clicking below or send an E-Transfer to offic
 e@calgarycsl.org ($31.50 per ticket with GST)\n\n\n\n&nbsp\;
ATTACH;FMTTYPE=image/jpeg:https://calgarycsl.org/wp-content/uploads/2022/0
 4/86796288_10163239030195694_6460567609975767040_n.jpg
CATEGORIES:Concert
END:VEVENT
BEGIN:VTIMEZONE
TZID:America/Edmonton
X-LIC-LOCATION:America/Edmonton
BEGIN:DAYLIGHT
DTSTART:20230312T030000
TZOFFSETFROM:-0700
TZOFFSETTO:-0600
TZNAME:MDT
END:DAYLIGHT
END:VTIMEZONE
END:VCALENDAR