BEGIN:VCALENDAR
VERSION:2.0
PRODID:-//wp-events-plugin.com//7.2.3.1//EN
TZID:America/Edmonton
X-WR-TIMEZONE:America/Edmonton
BEGIN:VEVENT
UID:973@calgarycsl.org
DTSTART:20201220T173000Z
DTEND:20201220T173000Z
DTSTAMP:20201211T173021Z
URL:https://calgarycsl.org/events/sacred-illumination-service/
SUMMARY:Sacred Illumination Service & Kids Colouring
DESCRIPTION:And Kids Colouring event\nRegular Service time
CATEGORIES:Sunday Celebration
END:VEVENT
END:VCALENDAR