BEGIN:VCALENDAR
VERSION:2.0
PRODID:-//wp-events-plugin.com//7.2.3.1//EN
TZID:America/Edmonton
X-WR-TIMEZONE:America/Edmonton
BEGIN:VEVENT
UID:3747@calgarycsl.org
DTSTART;TZID=America/Edmonton:20240720T110000
DTEND;TZID=America/Edmonton:20240720T150000
DTSTAMP:20240702T143030Z
URL:https://calgarycsl.org/events/rock-the-nation-july-20th/
SUMMARY:Rock the Nation July 20th
DESCRIPTION:Join us as we head out to Studio Bell to Rock The Nation!\n\n$2
 0 per ticket\, must pay to Centre in advance in order to get this discount
 ed group rate. No later than July 17.\n\nArrive at Studio Bell no later 11
 :30\, show starts at noon.\nWHAT'S INCLUDED WITH YOUR TICKET TO ROCK THE N
 ATION?\nStudio Bell admission includes Rock the Nation tickets and a list 
 of great benefits:\n\n 	Access to both Rock the Nation sets at 12:00 pm an
 d 2:00 pm\n 	Museum access at Studio Bell\n 	Spot on the Rock the Nation-t
 hemed exhibition tour\n 	10% discount for food and beverage at the King Ed
 dy\n\nParking near the event weekend rate of $5.
ATTACH;FMTTYPE=image/jpeg:https://calgarycsl.org/wp-content/uploads/2024/0
 6/rock-the-nation-1.png
CATEGORIES:Concert,Social
END:VEVENT
BEGIN:VTIMEZONE
TZID:America/Edmonton
X-LIC-LOCATION:America/Edmonton
BEGIN:DAYLIGHT
DTSTART:20240310T030000
TZOFFSETFROM:-0700
TZOFFSETTO:-0600
TZNAME:MDT
END:DAYLIGHT
END:VTIMEZONE
END:VCALENDAR