BEGIN:VCALENDAR
VERSION:2.0
PRODID:-//wp-events-plugin.com//7.2.3.1//EN
TZID:America/Edmonton
X-WR-TIMEZONE:America/Edmonton
BEGIN:VEVENT
UID:4289@calgarycsl.org
DTSTART;TZID=America/Edmonton:20250105T120000
DTEND;TZID=America/Edmonton:20250105T131500
DTSTAMP:20241204T200355Z
URL:https://calgarycsl.org/events/rap-with-the-rev/
SUMMARY:Rap with the Rev Newcomers Lunch
DESCRIPTION:All Calgary CSL newcomers are invited to the “Rap with the Re
 v” lunch on January 5/12 from noon until about 1:30 pm.   Enjoy the make
 -your-own taco bar with vegan\, vegetarian\, and gluten-free options.  Dr.
   Pat will share the story of her spiritual journey followed by a brief "g
 et to know ya" activity. \n\nEven if you have been coming to the Centre fo
 r a while\, if you haven’t attended a Rap with the Rev lunch before\, yo
 u are welcome to join us. There is no cost but we would appreciate it if y
 ou could email office@calgarycsl.org to let us know you are coming.
ATTACH;FMTTYPE=image/jpeg:https://calgarycsl.org/wp-content/uploads/2020/0
 4/csl-logo-300-1.jpg
CATEGORIES:Meeting,Social
END:VEVENT
BEGIN:VTIMEZONE
TZID:America/Edmonton
X-LIC-LOCATION:America/Edmonton
BEGIN:STANDARD
DTSTART:20241103T010000
TZOFFSETFROM:-0600
TZOFFSETTO:-0700
TZNAME:MST
END:STANDARD
END:VTIMEZONE
END:VCALENDAR