BEGIN:VCALENDAR
VERSION:2.0
PRODID:-//wp-events-plugin.com//7.2.3.1//EN
TZID:America/Edmonton
X-WR-TIMEZONE:America/Edmonton
BEGIN:VEVENT
UID:2087@calgarycsl.org
DTSTART;TZID=America/Edmonton:20230604T120000
DTEND;TZID=America/Edmonton:20230604T130000
DTSTAMP:20230330T143849Z
URL:https://calgarycsl.org/events/rap-with-rev/
SUMMARY:Rap with Rev
DESCRIPTION:Sunday June 4 Rap with the Rev:  Welcome to the Calgary Centre
  for Spiritual Living!!\n\nNewcomers are invited to stay after the service
  and be our guest for a light lunch. Dr. Pat will share her spiritual jour
 ney followed by a breakout chat to meet other members.
ATTACH;FMTTYPE=image/jpeg:https://calgarycsl.org/wp-content/uploads/2022/0
 1/150970952_10158894898997719_5137267127153586420_n.jpg
CATEGORIES:Discussion Group,Meeting,More CCSL Events,Social
END:VEVENT
BEGIN:VTIMEZONE
TZID:America/Edmonton
X-LIC-LOCATION:America/Edmonton
BEGIN:DAYLIGHT
DTSTART:20230312T030000
TZOFFSETFROM:-0700
TZOFFSETTO:-0600
TZNAME:MDT
END:DAYLIGHT
END:VTIMEZONE
END:VCALENDAR