BEGIN:VCALENDAR
VERSION:2.0
PRODID:-//wp-events-plugin.com//7.2.3.1//EN
TZID:America/Edmonton
X-WR-TIMEZONE:America/Edmonton
BEGIN:VEVENT
UID:3757@calgarycsl.org
DTSTART;TZID=America/Edmonton:20240825T123000
DTEND;TZID=America/Edmonton:20240825T140000
DTSTAMP:20240808T202342Z
URL:https://calgarycsl.org/events/raise-your-vibration-and-your-life/
SUMMARY:Raise Your Vibration and Your Life
DESCRIPTION:Join this workshop by Spiritual Practitioner Valda Harris to ta
 p into\, and raise\, your Intuition\n\nAugust 25\n\n12:30 - 2:00 PM\n\n$20
  Love Donation\n\n 	Pay attention to\, listen for\, and act on your person
 al Voice for Truth\n 	Tell the difference between your intuition and your 
 fear.\n 	Give your intuition a boost by asking better questions.\n
ATTACH;FMTTYPE=image/jpeg:https://calgarycsl.org/wp-content/uploads/2024/0
 7/valda-slide-august.jpg
CATEGORIES:Workshop
END:VEVENT
BEGIN:VTIMEZONE
TZID:America/Edmonton
X-LIC-LOCATION:America/Edmonton
BEGIN:DAYLIGHT
DTSTART:20240310T030000
TZOFFSETFROM:-0700
TZOFFSETTO:-0600
TZNAME:MDT
END:DAYLIGHT
END:VTIMEZONE
END:VCALENDAR