BEGIN:VCALENDAR
VERSION:2.0
PRODID:-//wp-events-plugin.com//7.2.3.1//EN
TZID:America/Edmonton
X-WR-TIMEZONE:America/Edmonton
BEGIN:VEVENT
UID:2688@calgarycsl.org
DTSTART;TZID=America/Edmonton:20260414T183000
DTEND;TZID=America/Edmonton:20260414T210000
DTSTAMP:20260413T192729Z
URL:https://calgarycsl.org/events/prosperity-plus/
SUMMARY:Prosperity Plus
DESCRIPTION:LEARN HOW TO EXPERIENCE A FULL AND ABUNDANT LIFE\n\nONLINE COUR
 SE FACILITATED BY DR. PAT CAMPBELL\n\nTuesday Evenings (6:30 - 9:00 Mounta
 in Time)\, April 14 - May 26\n\nRegister by paying $40 through :\n\nE-tran
 sfer to office@calgarycsl.org (please include 'P+' in the message)\n\nor b
 y debit/credit/paypal by donating $40 at this link and clicking on the don
 ate button\n\nMaterials: \n\nYou will be provided access to purchase a Di
 gital Prosperity Plus Participant Package on the first night. $39.00 USD\n
 \n------\n\nAre you ready to enjoy abundance on a whole new level? You can
  with Prosperity Plus. This course offers a proven path to increasing pros
 perity in your life and will open you to experience greater abundance in A
 LL areas: relationships\, career/business\, health and spirituality.\n\n\n
 You will learn:\n\n 	Techniques to dissolving the blocks that are sabotagi
 ng your success.\n 	The art and science of true transformation.\n 	How giv
 ing of your time\, talent and treasure unleashes the flow of your highest 
 good and abundance.\n 	The meaning of living full spectrum wealth in eve
 ry area of your life.\n 	And so much more!\n\n\nBased on the powerful prog
 ram developed by best-selling author &amp\; spiritual teacher Mary Morriss
 ey.\n\n\n\n\nYou'll be asked to tithe of your treasure\, your time and tal
 ents each week empowering you to experience prosperity in every area of
  your life.\n\nTHIS COURSE WILL BE TAUGHT ONLINE ONLY\n\nPrerequisite not 
 required.\n\n\n7 weeks (each class is 2.5 hours per week plus homework)
ATTACH;FMTTYPE=image/jpeg:https://calgarycsl.org/wp-content/uploads/2023/0
 5/PP3-FacebookPostGraphic.jpg
CATEGORIES:Course
END:VEVENT
BEGIN:VTIMEZONE
TZID:America/Edmonton
X-LIC-LOCATION:America/Edmonton
BEGIN:DAYLIGHT
DTSTART:20260308T030000
TZOFFSETFROM:-0700
TZOFFSETTO:-0600
TZNAME:MDT
END:DAYLIGHT
END:VTIMEZONE
END:VCALENDAR