BEGIN:VCALENDAR
VERSION:2.0
PRODID:-//wp-events-plugin.com//7.2.3.1//EN
TZID:America/Edmonton
X-WR-TIMEZONE:America/Edmonton
BEGIN:VEVENT
UID:2682@calgarycsl.org
DTSTART;TZID=America/Edmonton:20230718T183000
DTEND;TZID=America/Edmonton:20230718T210000
DTSTAMP:20230529T184626Z
URL:https://calgarycsl.org/events/prosperity-plus-3-2023-07-18/
SUMMARY:Prosperity Plus
DESCRIPTION:Learning to Co-Create more in life.\n\n7 - week Course.\n\nhttp
 ://4.172.249.10/events/prosperity-plus/
ATTACH;FMTTYPE=image/jpeg:https://calgarycsl.org/wp-content/uploads/2020/0
 1/pro3.jpg
CATEGORIES:Course
LOCATION:Calgary Centre for Spiritual Living\, 4411 Manitoba Rd SE\, Calgar
 y\, AB\, T2Y 3Z6\, Canada
X-APPLE-STRUCTURED-LOCATION;VALUE=URI;X-ADDRESS=4411 Manitoba Rd SE\, Calga
 ry\, AB\, T2Y 3Z6\, Canada;X-APPLE-RADIUS=100;X-TITLE=Calgary Centre for S
 piritual Living:geo:0,0
END:VEVENT
BEGIN:VTIMEZONE
TZID:America/Edmonton
X-LIC-LOCATION:America/Edmonton
BEGIN:DAYLIGHT
DTSTART:20230312T030000
TZOFFSETFROM:-0700
TZOFFSETTO:-0600
TZNAME:MDT
END:DAYLIGHT
END:VTIMEZONE
END:VCALENDAR